BEGIN:VCALENDAR
VERSION:2.0
PRODID:-//Feriados Argentina//feriadosargentina.com.ar//ES
X-WR-CALNAME:Feriados Argentina 2025
X-WR-TIMEZONE:America/Argentina/Buenos_Aires
X-WR-CALDESC:Feriados oficiales de Argentina 2025
CALSCALE:GREGORIAN
METHOD:PUBLISH
BEGIN:VEVENT
UID:ano-nuevo-20250101@feriadosargentina.com.ar
DTSTAMP:20260425T151313Z
DTSTART;VALUE=DATE:20250101
DTEND;VALUE=DATE:20250102
SUMMARY:Año Nuevo (Inamovible)
DESCRIPTION:El Año Nuevo\, miércoles 1 de enero de 2025\, es un feriado inamovible en Argentina.
URL:https://feriadosargentina.com.ar/feriados-2025/ano-nuevo/
CATEGORIES:Feriado,Argentina
STATUS:CONFIRMED
TRANSP:TRANSPARENT
END:VEVENT
BEGIN:VEVENT
UID:carnaval-20250303@feriadosargentina.com.ar
DTSTAMP:20260425T151313Z
DTSTART;VALUE=DATE:20250303
DTEND;VALUE=DATE:20250304
SUMMARY:Carnaval (Inamovible)
DESCRIPTION:El Carnaval\, lunes 3 de marzo de 2025\, es un feriado inamovible en Argentina.
URL:https://feriadosargentina.com.ar/feriados-2025/carnaval/
CATEGORIES:Feriado,Argentina
STATUS:CONFIRMED
TRANSP:TRANSPARENT
END:VEVENT
BEGIN:VEVENT
UID:carnaval-20250304@feriadosargentina.com.ar
DTSTAMP:20260425T151313Z
DTSTART;VALUE=DATE:20250304
DTEND;VALUE=DATE:20250305
SUMMARY:Carnaval (Inamovible)
DESCRIPTION:El Carnaval\, martes 4 de marzo de 2025\, es un feriado inamovible en Argentina.
URL:https://feriadosargentina.com.ar/feriados-2025/carnaval/
CATEGORIES:Feriado,Argentina
STATUS:CONFIRMED
TRANSP:TRANSPARENT
END:VEVENT
BEGIN:VEVENT
UID:dia-nacional-de-la-memoria-por-la-verdad-y-la-justicia-20250324@feriadosargentina.com.ar
DTSTAMP:20260425T151313Z
DTSTART;VALUE=DATE:20250324
DTEND;VALUE=DATE:20250325
SUMMARY:Día Nacional de la Memoria por la Verdad y la Justicia (Inamovible)
DESCRIPTION:El Día Nacional de la Memoria por la Verdad y la Justicia\, lunes 24 de marzo de 2025\, es un feriado inamovible en Argentina.
URL:https://feriadosargentina.com.ar/feriados-2025/dia-nacional-de-la-memoria-por-la-verdad-y-la-justicia/
CATEGORIES:Feriado,Argentina
STATUS:CONFIRMED
TRANSP:TRANSPARENT
END:VEVENT
BEGIN:VEVENT
UID:fiesta-de-la-ruptura-del-ayuno-del-sagrado-mes-de-ramadan-id-al-fitr-20250331@feriadosargentina.com.ar
DTSTAMP:20260425T151313Z
DTSTART;VALUE=DATE:20250331
DTEND;VALUE=DATE:20250401
SUMMARY:Fiesta de la Ruptura del Ayuno del Sagrado Mes de Ramadán (Id al-Fitr) (No laborable)
DESCRIPTION:El Fiesta de la Ruptura del Ayuno del Sagrado Mes de Ramadán (Id al-Fitr)\, lunes 31 de marzo de 2025\, es un feriado no laborable en Argentina.
URL:https://feriadosargentina.com.ar/feriados-2025/fiesta-de-la-ruptura-del-ayuno-del-sagrado-mes-de-ramadan-id-al-fitr/
CATEGORIES:Feriado,Argentina
STATUS:CONFIRMED
TRANSP:TRANSPARENT
END:VEVENT
BEGIN:VEVENT
UID:dia-del-veterano-y-de-los-caidos-en-la-guerra-de-malvinas-20250402@feriadosargentina.com.ar
DTSTAMP:20260425T151313Z
DTSTART;VALUE=DATE:20250402
DTEND;VALUE=DATE:20250403
SUMMARY:Día del Veterano y de los Caídos en la Guerra de Malvinas (Inamovible)
DESCRIPTION:El Día del Veterano y de los Caídos en la Guerra de Malvinas\, miércoles 2 de abril de 2025\, es un feriado inamovible en Argentina.
URL:https://feriadosargentina.com.ar/feriados-2025/dia-del-veterano-y-de-los-caidos-en-la-guerra-de-malvinas/
CATEGORIES:Feriado,Argentina
STATUS:CONFIRMED
TRANSP:TRANSPARENT
END:VEVENT
BEGIN:VEVENT
UID:primeros-dos-dias-de-la-pascua-judia-b-20250413@feriadosargentina.com.ar
DTSTAMP:20260425T151313Z
DTSTART;VALUE=DATE:20250413
DTEND;VALUE=DATE:20250414
SUMMARY:Primeros dos días de la Pascua Judía (b) (No laborable)
DESCRIPTION:El Primeros dos días de la Pascua Judía (b)\, domingo 13 de abril de 2025\, es un feriado no laborable en Argentina.
URL:https://feriadosargentina.com.ar/feriados-2025/primeros-dos-dias-de-la-pascua-judia-b/
CATEGORIES:Feriado,Argentina
STATUS:CONFIRMED
TRANSP:TRANSPARENT
END:VEVENT
BEGIN:VEVENT
UID:primeros-dos-dias-de-la-pascua-judia-b-20250414@feriadosargentina.com.ar
DTSTAMP:20260425T151313Z
DTSTART;VALUE=DATE:20250414
DTEND;VALUE=DATE:20250415
SUMMARY:Primeros dos días de la Pascua Judía (b) (No laborable)
DESCRIPTION:El Primeros dos días de la Pascua Judía (b)\, lunes 14 de abril de 2025\, es un feriado no laborable en Argentina.
URL:https://feriadosargentina.com.ar/feriados-2025/primeros-dos-dias-de-la-pascua-judia-b/
CATEGORIES:Feriado,Argentina
STATUS:CONFIRMED
TRANSP:TRANSPARENT
END:VEVENT
BEGIN:VEVENT
UID:jueves-santo-festividad-cristiana-20250417@feriadosargentina.com.ar
DTSTAMP:20260425T151313Z
DTSTART;VALUE=DATE:20250417
DTEND;VALUE=DATE:20250418
SUMMARY:Jueves Santo Festividad Cristiana (No laborable)
DESCRIPTION:El Jueves Santo Festividad Cristiana\, jueves 17 de abril de 2025\, es un feriado no laborable en Argentina.
URL:https://feriadosargentina.com.ar/feriados-2025/jueves-santo-festividad-cristiana/
CATEGORIES:Feriado,Argentina
STATUS:CONFIRMED
TRANSP:TRANSPARENT
END:VEVENT
BEGIN:VEVENT
UID:viernes-santo-20250418@feriadosargentina.com.ar
DTSTAMP:20260425T151313Z
DTSTART;VALUE=DATE:20250418
DTEND;VALUE=DATE:20250419
SUMMARY:Viernes Santo (Inamovible)
DESCRIPTION:El Viernes Santo\, viernes 18 de abril de 2025\, es un feriado inamovible en Argentina.
URL:https://feriadosargentina.com.ar/feriados-2025/viernes-santo/
CATEGORIES:Feriado,Argentina
STATUS:CONFIRMED
TRANSP:TRANSPARENT
END:VEVENT
BEGIN:VEVENT
UID:ultimos-dos-dias-de-la-pascua-judia-b-20250419@feriadosargentina.com.ar
DTSTAMP:20260425T151313Z
DTSTART;VALUE=DATE:20250419
DTEND;VALUE=DATE:20250420
SUMMARY:Últimos dos días de la Pascua Judía (b) (No laborable)
DESCRIPTION:El Últimos dos días de la Pascua Judía (b)\, sábado 19 de abril de 2025\, es un feriado no laborable en Argentina.
URL:https://feriadosargentina.com.ar/feriados-2025/ultimos-dos-dias-de-la-pascua-judia-b/
CATEGORIES:Feriado,Argentina
STATUS:CONFIRMED
TRANSP:TRANSPARENT
END:VEVENT
BEGIN:VEVENT
UID:ultimos-dos-dias-de-la-pascua-judia-b-20250420@feriadosargentina.com.ar
DTSTAMP:20260425T151313Z
DTSTART;VALUE=DATE:20250420
DTEND;VALUE=DATE:20250421
SUMMARY:Últimos dos días de la Pascua Judía (b) (No laborable)
DESCRIPTION:El Últimos dos días de la Pascua Judía (b)\, domingo 20 de abril de 2025\, es un feriado no laborable en Argentina.
URL:https://feriadosargentina.com.ar/feriados-2025/ultimos-dos-dias-de-la-pascua-judia-b/
CATEGORIES:Feriado,Argentina
STATUS:CONFIRMED
TRANSP:TRANSPARENT
END:VEVENT
BEGIN:VEVENT
UID:dia-no-laborable-dia-de-accion-por-la-tolerancia-y-el-respeto-entre-los-pueblos-a-20250424@feriadosargentina.com.ar
DTSTAMP:20260425T151313Z
DTSTART;VALUE=DATE:20250424
DTEND;VALUE=DATE:20250425
SUMMARY:Día no laborable — Día de acción por la tolerancia y el respeto entre los pueblos (a) (No laborable)
DESCRIPTION:El Día no laborable — Día de acción por la tolerancia y el respeto entre los pueblos (a)\, jueves 24 de abril de 2025\, es un feriado no laborable en Argentina.
URL:https://feriadosargentina.com.ar/feriados-2025/dia-no-laborable-dia-de-accion-por-la-tolerancia-y-el-respeto-entre-los-pueblos-a/
CATEGORIES:Feriado,Argentina
STATUS:CONFIRMED
TRANSP:TRANSPARENT
END:VEVENT
BEGIN:VEVENT
UID:dia-del-trabajador-20250501@feriadosargentina.com.ar
DTSTAMP:20260425T151313Z
DTSTART;VALUE=DATE:20250501
DTEND;VALUE=DATE:20250502
SUMMARY:Día del Trabajador (Inamovible)
DESCRIPTION:El Día del Trabajador\, jueves 1 de mayo de 2025\, es un feriado inamovible en Argentina.
URL:https://feriadosargentina.com.ar/feriados-2025/dia-del-trabajador/
CATEGORIES:Feriado,Argentina
STATUS:CONFIRMED
TRANSP:TRANSPARENT
END:VEVENT
BEGIN:VEVENT
UID:dia-no-laborable-con-fines-turisticos-20250502@feriadosargentina.com.ar
DTSTAMP:20260425T151313Z
DTSTART;VALUE=DATE:20250502
DTEND;VALUE=DATE:20250503
SUMMARY:Día no laborable con fines turísticos (Turístico)
DESCRIPTION:El Día no laborable con fines turísticos\, viernes 2 de mayo de 2025\, es un feriado turístico en Argentina.
URL:https://feriadosargentina.com.ar/feriados-2025/dia-no-laborable-con-fines-turisticos/
CATEGORIES:Feriado,Argentina
STATUS:CONFIRMED
TRANSP:TRANSPARENT
END:VEVENT
BEGIN:VEVENT
UID:dia-de-la-revolucion-de-mayo-20250525@feriadosargentina.com.ar
DTSTAMP:20260425T151313Z
DTSTART;VALUE=DATE:20250525
DTEND;VALUE=DATE:20250526
SUMMARY:Día de la Revolución de Mayo (Inamovible)
DESCRIPTION:El Día de la Revolución de Mayo\, domingo 25 de mayo de 2025\, es un feriado inamovible en Argentina.
URL:https://feriadosargentina.com.ar/feriados-2025/dia-de-la-revolucion-de-mayo/
CATEGORIES:Feriado,Argentina
STATUS:CONFIRMED
TRANSP:TRANSPARENT
END:VEVENT
BEGIN:VEVENT
UID:fiesta-del-sacrificio-c-20250606@feriadosargentina.com.ar
DTSTAMP:20260425T151313Z
DTSTART;VALUE=DATE:20250606
DTEND;VALUE=DATE:20250607
SUMMARY:Fiesta del Sacrificio (c) (No laborable)
DESCRIPTION:El Fiesta del Sacrificio (c)\, viernes 6 de junio de 2025\, es un feriado no laborable en Argentina.
URL:https://feriadosargentina.com.ar/feriados-2025/fiesta-del-sacrificio-c/
CATEGORIES:Feriado,Argentina
STATUS:CONFIRMED
TRANSP:TRANSPARENT
END:VEVENT
BEGIN:VEVENT
UID:paso-a-la-inmortalidad-del-general-don-martin-miguel-de-guemes-17-06-20250616@feriadosargentina.com.ar
DTSTAMP:20260425T151313Z
DTSTART;VALUE=DATE:20250616
DTEND;VALUE=DATE:20250617
SUMMARY:Paso a la Inmortalidad del General Don Martín Miguel de Güemes (17/06) (Trasladable)
DESCRIPTION:El Paso a la Inmortalidad del General Don Martín Miguel de Güemes (17/06)\, lunes 16 de junio de 2025\, es un feriado trasladable en Argentina.
URL:https://feriadosargentina.com.ar/feriados-2025/paso-a-la-inmortalidad-del-general-don-martin-miguel-de-guemes-17-06/
CATEGORIES:Feriado,Argentina
STATUS:CONFIRMED
TRANSP:TRANSPARENT
END:VEVENT
BEGIN:VEVENT
UID:paso-a-la-inmortalidad-del-gral-manuel-belgrano-20250620@feriadosargentina.com.ar
DTSTAMP:20260425T151313Z
DTSTART;VALUE=DATE:20250620
DTEND;VALUE=DATE:20250621
SUMMARY:Paso a la Inmortalidad del Gral. Manuel Belgrano (Inamovible)
DESCRIPTION:El Paso a la Inmortalidad del Gral. Manuel Belgrano\, viernes 20 de junio de 2025\, es un feriado inamovible en Argentina.
URL:https://feriadosargentina.com.ar/feriados-2025/paso-a-la-inmortalidad-del-gral-manuel-belgrano/
CATEGORIES:Feriado,Argentina
STATUS:CONFIRMED
TRANSP:TRANSPARENT
END:VEVENT
BEGIN:VEVENT
UID:ano-nuevo-islamico-c-20250626@feriadosargentina.com.ar
DTSTAMP:20260425T151313Z
DTSTART;VALUE=DATE:20250626
DTEND;VALUE=DATE:20250627
SUMMARY:Año Nuevo Islámico (c) (No laborable)
DESCRIPTION:El Año Nuevo Islámico (c)\, jueves 26 de junio de 2025\, es un feriado no laborable en Argentina.
URL:https://feriadosargentina.com.ar/feriados-2025/ano-nuevo-islamico-c/
CATEGORIES:Feriado,Argentina
STATUS:CONFIRMED
TRANSP:TRANSPARENT
END:VEVENT
BEGIN:VEVENT
UID:dia-de-la-independencia-20250709@feriadosargentina.com.ar
DTSTAMP:20260425T151313Z
DTSTART;VALUE=DATE:20250709
DTEND;VALUE=DATE:20250710
SUMMARY:Día de la Independencia (Inamovible)
DESCRIPTION:El Día de la Independencia\, miércoles 9 de julio de 2025\, es un feriado inamovible en Argentina.
URL:https://feriadosargentina.com.ar/feriados-2025/dia-de-la-independencia/
CATEGORIES:Feriado,Argentina
STATUS:CONFIRMED
TRANSP:TRANSPARENT
END:VEVENT
BEGIN:VEVENT
UID:dia-no-laborable-con-fines-turisticos-20250815@feriadosargentina.com.ar
DTSTAMP:20260425T151313Z
DTSTART;VALUE=DATE:20250815
DTEND;VALUE=DATE:20250816
SUMMARY:Día no laborable con fines turísticos (Turístico)
DESCRIPTION:El Día no laborable con fines turísticos\, viernes 15 de agosto de 2025\, es un feriado turístico en Argentina.
URL:https://feriadosargentina.com.ar/feriados-2025/dia-no-laborable-con-fines-turisticos/
CATEGORIES:Feriado,Argentina
STATUS:CONFIRMED
TRANSP:TRANSPARENT
END:VEVENT
BEGIN:VEVENT
UID:paso-a-la-inmortalidad-del-general-jose-de-san-martin-20250817@feriadosargentina.com.ar
DTSTAMP:20260425T151313Z
DTSTART;VALUE=DATE:20250817
DTEND;VALUE=DATE:20250818
SUMMARY:Paso a la Inmortalidad del General José de San Martín (Trasladable)
DESCRIPTION:El Paso a la Inmortalidad del General José de San Martín\, domingo 17 de agosto de 2025\, es un feriado trasladable en Argentina.
URL:https://feriadosargentina.com.ar/feriados-2025/paso-a-la-inmortalidad-del-general-jose-de-san-martin/
CATEGORIES:Feriado,Argentina
STATUS:CONFIRMED
TRANSP:TRANSPARENT
END:VEVENT
BEGIN:VEVENT
UID:ano-nuevo-judio-b-20250923@feriadosargentina.com.ar
DTSTAMP:20260425T151313Z
DTSTART;VALUE=DATE:20250923
DTEND;VALUE=DATE:20250924
SUMMARY:Año Nuevo Judío (b) (No laborable)
DESCRIPTION:El Año Nuevo Judío (b)\, martes 23 de septiembre de 2025\, es un feriado no laborable en Argentina.
URL:https://feriadosargentina.com.ar/feriados-2025/ano-nuevo-judio-b/
CATEGORIES:Feriado,Argentina
STATUS:CONFIRMED
TRANSP:TRANSPARENT
END:VEVENT
BEGIN:VEVENT
UID:ano-nuevo-judio-b-20250924@feriadosargentina.com.ar
DTSTAMP:20260425T151313Z
DTSTART;VALUE=DATE:20250924
DTEND;VALUE=DATE:20250925
SUMMARY:Año Nuevo Judío (b) (No laborable)
DESCRIPTION:El Año Nuevo Judío (b)\, miércoles 24 de septiembre de 2025\, es un feriado no laborable en Argentina.
URL:https://feriadosargentina.com.ar/feriados-2025/ano-nuevo-judio-b/
CATEGORIES:Feriado,Argentina
STATUS:CONFIRMED
TRANSP:TRANSPARENT
END:VEVENT
BEGIN:VEVENT
UID:dia-del-perdon-b-20251002@feriadosargentina.com.ar
DTSTAMP:20260425T151313Z
DTSTART;VALUE=DATE:20251002
DTEND;VALUE=DATE:20251003
SUMMARY:Día del Perdón (b) (No laborable)
DESCRIPTION:El Día del Perdón (b)\, jueves 2 de octubre de 2025\, es un feriado no laborable en Argentina.
URL:https://feriadosargentina.com.ar/feriados-2025/dia-del-perdon-b/
CATEGORIES:Feriado,Argentina
STATUS:CONFIRMED
TRANSP:TRANSPARENT
END:VEVENT
BEGIN:VEVENT
UID:dia-del-respeto-a-la-diversidad-cultural-20251010@feriadosargentina.com.ar
DTSTAMP:20260425T151313Z
DTSTART;VALUE=DATE:20251010
DTEND;VALUE=DATE:20251011
SUMMARY:Día del Respeto a la Diversidad Cultural (Trasladable)
DESCRIPTION:El Día del Respeto a la Diversidad Cultural\, viernes 10 de octubre de 2025\, es un feriado trasladable en Argentina.
URL:https://feriadosargentina.com.ar/feriados-2025/dia-del-respeto-a-la-diversidad-cultural/
CATEGORIES:Feriado,Argentina
STATUS:CONFIRMED
TRANSP:TRANSPARENT
END:VEVENT
BEGIN:VEVENT
UID:dia-no-laborable-con-fines-turisticos-20251121@feriadosargentina.com.ar
DTSTAMP:20260425T151313Z
DTSTART;VALUE=DATE:20251121
DTEND;VALUE=DATE:20251122
SUMMARY:Día no laborable con fines turísticos (Turístico)
DESCRIPTION:El Día no laborable con fines turísticos\, viernes 21 de noviembre de 2025\, es un feriado turístico en Argentina.
URL:https://feriadosargentina.com.ar/feriados-2025/dia-no-laborable-con-fines-turisticos/
CATEGORIES:Feriado,Argentina
STATUS:CONFIRMED
TRANSP:TRANSPARENT
END:VEVENT
BEGIN:VEVENT
UID:dia-de-la-soberania-nacional-20-11-20251124@feriadosargentina.com.ar
DTSTAMP:20260425T151313Z
DTSTART;VALUE=DATE:20251124
DTEND;VALUE=DATE:20251125
SUMMARY:Día de la Soberanía Nacional (20/11) (Trasladable)
DESCRIPTION:El Día de la Soberanía Nacional (20/11)\, lunes 24 de noviembre de 2025\, es un feriado trasladable en Argentina.
URL:https://feriadosargentina.com.ar/feriados-2025/dia-de-la-soberania-nacional-20-11/
CATEGORIES:Feriado,Argentina
STATUS:CONFIRMED
TRANSP:TRANSPARENT
END:VEVENT
BEGIN:VEVENT
UID:dia-de-la-inmaculada-concepcion-de-maria-20251208@feriadosargentina.com.ar
DTSTAMP:20260425T151313Z
DTSTART;VALUE=DATE:20251208
DTEND;VALUE=DATE:20251209
SUMMARY:Día de la Inmaculada Concepción de María (Inamovible)
DESCRIPTION:El Día de la Inmaculada Concepción de María\, lunes 8 de diciembre de 2025\, es un feriado inamovible en Argentina.
URL:https://feriadosargentina.com.ar/feriados-2025/dia-de-la-inmaculada-concepcion-de-maria/
CATEGORIES:Feriado,Argentina
STATUS:CONFIRMED
TRANSP:TRANSPARENT
END:VEVENT
BEGIN:VEVENT
UID:navidad-20251225@feriadosargentina.com.ar
DTSTAMP:20260425T151313Z
DTSTART;VALUE=DATE:20251225
DTEND;VALUE=DATE:20251226
SUMMARY:Navidad (Inamovible)
DESCRIPTION:El Navidad\, jueves 25 de diciembre de 2025\, es un feriado inamovible en Argentina.
URL:https://feriadosargentina.com.ar/feriados-2025/navidad/
CATEGORIES:Feriado,Argentina
STATUS:CONFIRMED
TRANSP:TRANSPARENT
END:VEVENT
END:VCALENDAR
