BEGIN:VCALENDAR
VERSION:2.0
PRODID:-//Feriados Argentina//feriadosargentina.com.ar//ES
X-WR-CALNAME:Feriados Argentina 2026
X-WR-TIMEZONE:America/Argentina/Buenos_Aires
X-WR-CALDESC:Feriados oficiales de Argentina 2026
CALSCALE:GREGORIAN
METHOD:PUBLISH
BEGIN:VEVENT
UID:ano-nuevo-20260101@feriadosargentina.com.ar
DTSTAMP:20260425T153832Z
DTSTART;VALUE=DATE:20260101
DTEND;VALUE=DATE:20260102
SUMMARY:Año Nuevo (Inamovible)
DESCRIPTION:El Año Nuevo\, jueves 1 de enero de 2026\, es un feriado inamovible en Argentina.
URL:https://feriadosargentina.com.ar/feriados-2026/ano-nuevo/
CATEGORIES:Feriado,Argentina
STATUS:CONFIRMED
TRANSP:TRANSPARENT
END:VEVENT
BEGIN:VEVENT
UID:carnaval-20260216@feriadosargentina.com.ar
DTSTAMP:20260425T153832Z
DTSTART;VALUE=DATE:20260216
DTEND;VALUE=DATE:20260217
SUMMARY:Carnaval (Inamovible)
DESCRIPTION:El Carnaval\, lunes 16 de febrero de 2026\, es un feriado inamovible en Argentina.
URL:https://feriadosargentina.com.ar/feriados-2026/carnaval/
CATEGORIES:Feriado,Argentina
STATUS:CONFIRMED
TRANSP:TRANSPARENT
END:VEVENT
BEGIN:VEVENT
UID:carnaval-20260217@feriadosargentina.com.ar
DTSTAMP:20260425T153832Z
DTSTART;VALUE=DATE:20260217
DTEND;VALUE=DATE:20260218
SUMMARY:Carnaval (Inamovible)
DESCRIPTION:El Carnaval\, martes 17 de febrero de 2026\, es un feriado inamovible en Argentina.
URL:https://feriadosargentina.com.ar/feriados-2026/carnaval/
CATEGORIES:Feriado,Argentina
STATUS:CONFIRMED
TRANSP:TRANSPARENT
END:VEVENT
BEGIN:VEVENT
UID:dia-no-laborable-turistico-20260323@feriadosargentina.com.ar
DTSTAMP:20260425T153832Z
DTSTART;VALUE=DATE:20260323
DTEND;VALUE=DATE:20260324
SUMMARY:Día no laborable turístico (Turístico)
DESCRIPTION:El Día no laborable turístico\, lunes 23 de marzo de 2026\, es un feriado turístico en Argentina.
URL:https://feriadosargentina.com.ar/feriados-2026/dia-no-laborable-turistico/
CATEGORIES:Feriado,Argentina
STATUS:CONFIRMED
TRANSP:TRANSPARENT
END:VEVENT
BEGIN:VEVENT
UID:dia-nacional-de-la-memoria-por-la-verdad-y-la-justicia-20260324@feriadosargentina.com.ar
DTSTAMP:20260425T153832Z
DTSTART;VALUE=DATE:20260324
DTEND;VALUE=DATE:20260325
SUMMARY:Día Nacional de la Memoria por la Verdad y la Justicia (Inamovible)
DESCRIPTION:El Día Nacional de la Memoria por la Verdad y la Justicia\, martes 24 de marzo de 2026\, es un feriado inamovible en Argentina.
URL:https://feriadosargentina.com.ar/feriados-2026/dia-nacional-de-la-memoria-por-la-verdad-y-la-justicia/
CATEGORIES:Feriado,Argentina
STATUS:CONFIRMED
TRANSP:TRANSPARENT
END:VEVENT
BEGIN:VEVENT
UID:dia-del-veterano-y-de-los-caidos-en-la-guerra-de-malvinas-20260402@feriadosargentina.com.ar
DTSTAMP:20260425T153832Z
DTSTART;VALUE=DATE:20260402
DTEND;VALUE=DATE:20260403
SUMMARY:Día del Veterano y de los Caídos en la Guerra de Malvinas (Inamovible)
DESCRIPTION:El Día del Veterano y de los Caídos en la Guerra de Malvinas\, jueves 2 de abril de 2026\, es un feriado inamovible en Argentina.
URL:https://feriadosargentina.com.ar/feriados-2026/dia-del-veterano-y-de-los-caidos-en-la-guerra-de-malvinas/
CATEGORIES:Feriado,Argentina
STATUS:CONFIRMED
TRANSP:TRANSPARENT
END:VEVENT
BEGIN:VEVENT
UID:viernes-santo-20260403@feriadosargentina.com.ar
DTSTAMP:20260425T153832Z
DTSTART;VALUE=DATE:20260403
DTEND;VALUE=DATE:20260404
SUMMARY:Viernes Santo (Inamovible)
DESCRIPTION:El Viernes Santo\, viernes 3 de abril de 2026\, es un feriado inamovible en Argentina.
URL:https://feriadosargentina.com.ar/feriados-2026/viernes-santo/
CATEGORIES:Feriado,Argentina
STATUS:CONFIRMED
TRANSP:TRANSPARENT
END:VEVENT
BEGIN:VEVENT
UID:dia-del-trabajador-20260501@feriadosargentina.com.ar
DTSTAMP:20260425T153832Z
DTSTART;VALUE=DATE:20260501
DTEND;VALUE=DATE:20260502
SUMMARY:Día del Trabajador (Inamovible)
DESCRIPTION:El Día del Trabajador\, viernes 1 de mayo de 2026\, es un feriado inamovible en Argentina.
URL:https://feriadosargentina.com.ar/feriados-2026/dia-del-trabajador/
CATEGORIES:Feriado,Argentina
STATUS:CONFIRMED
TRANSP:TRANSPARENT
END:VEVENT
BEGIN:VEVENT
UID:dia-de-la-revolucion-de-mayo-20260525@feriadosargentina.com.ar
DTSTAMP:20260425T153832Z
DTSTART;VALUE=DATE:20260525
DTEND;VALUE=DATE:20260526
SUMMARY:Día de la Revolución de Mayo (Inamovible)
DESCRIPTION:El Día de la Revolución de Mayo\, lunes 25 de mayo de 2026\, es un feriado inamovible en Argentina.
URL:https://feriadosargentina.com.ar/feriados-2026/dia-de-la-revolucion-de-mayo/
CATEGORIES:Feriado,Argentina
STATUS:CONFIRMED
TRANSP:TRANSPARENT
END:VEVENT
BEGIN:VEVENT
UID:paso-a-la-inmortalidad-del-general-don-martin-miguel-de-guemes-17-06-20260615@feriadosargentina.com.ar
DTSTAMP:20260425T153832Z
DTSTART;VALUE=DATE:20260615
DTEND;VALUE=DATE:20260616
SUMMARY:Paso a la Inmortalidad del General Don Martín Miguel de Güemes (17/06) (Trasladable)
DESCRIPTION:El Paso a la Inmortalidad del General Don Martín Miguel de Güemes (17/06)\, lunes 15 de junio de 2026\, es un feriado trasladable en Argentina.
URL:https://feriadosargentina.com.ar/feriados-2026/paso-a-la-inmortalidad-del-general-don-martin-miguel-de-guemes-17-06/
CATEGORIES:Feriado,Argentina
STATUS:CONFIRMED
TRANSP:TRANSPARENT
END:VEVENT
BEGIN:VEVENT
UID:paso-a-la-inmortalidad-del-gral-manuel-belgrano-20260620@feriadosargentina.com.ar
DTSTAMP:20260425T153832Z
DTSTART;VALUE=DATE:20260620
DTEND;VALUE=DATE:20260621
SUMMARY:Paso a la Inmortalidad del Gral. Manuel Belgrano (Inamovible)
DESCRIPTION:El Paso a la Inmortalidad del Gral. Manuel Belgrano\, sábado 20 de junio de 2026\, es un feriado inamovible en Argentina.
URL:https://feriadosargentina.com.ar/feriados-2026/paso-a-la-inmortalidad-del-gral-manuel-belgrano/
CATEGORIES:Feriado,Argentina
STATUS:CONFIRMED
TRANSP:TRANSPARENT
END:VEVENT
BEGIN:VEVENT
UID:dia-de-la-independencia-20260709@feriadosargentina.com.ar
DTSTAMP:20260425T153832Z
DTSTART;VALUE=DATE:20260709
DTEND;VALUE=DATE:20260710
SUMMARY:Día de la Independencia (Inamovible)
DESCRIPTION:El Día de la Independencia\, jueves 9 de julio de 2026\, es un feriado inamovible en Argentina.
URL:https://feriadosargentina.com.ar/feriados-2026/dia-de-la-independencia/
CATEGORIES:Feriado,Argentina
STATUS:CONFIRMED
TRANSP:TRANSPARENT
END:VEVENT
BEGIN:VEVENT
UID:dia-no-laborable-con-fines-turisticos-20260710@feriadosargentina.com.ar
DTSTAMP:20260425T153832Z
DTSTART;VALUE=DATE:20260710
DTEND;VALUE=DATE:20260711
SUMMARY:Día no laborable con fines turísticos (Turístico)
DESCRIPTION:El Día no laborable con fines turísticos\, viernes 10 de julio de 2026\, es un feriado turístico en Argentina.
URL:https://feriadosargentina.com.ar/feriados-2026/dia-no-laborable-con-fines-turisticos/
CATEGORIES:Feriado,Argentina
STATUS:CONFIRMED
TRANSP:TRANSPARENT
END:VEVENT
BEGIN:VEVENT
UID:paso-a-la-inmortalidad-del-general-jose-de-san-martin-20260817@feriadosargentina.com.ar
DTSTAMP:20260425T153832Z
DTSTART;VALUE=DATE:20260817
DTEND;VALUE=DATE:20260818
SUMMARY:Paso a la Inmortalidad del General José de San Martín (Trasladable)
DESCRIPTION:El Paso a la Inmortalidad del General José de San Martín\, lunes 17 de agosto de 2026\, es un feriado trasladable en Argentina.
URL:https://feriadosargentina.com.ar/feriados-2026/paso-a-la-inmortalidad-del-general-jose-de-san-martin/
CATEGORIES:Feriado,Argentina
STATUS:CONFIRMED
TRANSP:TRANSPARENT
END:VEVENT
BEGIN:VEVENT
UID:dia-del-respeto-a-la-diversidad-cultural-20261012@feriadosargentina.com.ar
DTSTAMP:20260425T153832Z
DTSTART;VALUE=DATE:20261012
DTEND;VALUE=DATE:20261013
SUMMARY:Día del Respeto a la Diversidad Cultural (Trasladable)
DESCRIPTION:El Día del Respeto a la Diversidad Cultural\, lunes 12 de octubre de 2026\, es un feriado trasladable en Argentina.
URL:https://feriadosargentina.com.ar/feriados-2026/dia-del-respeto-a-la-diversidad-cultural/
CATEGORIES:Feriado,Argentina
STATUS:CONFIRMED
TRANSP:TRANSPARENT
END:VEVENT
BEGIN:VEVENT
UID:dia-de-la-soberania-nacional-20-11-20261123@feriadosargentina.com.ar
DTSTAMP:20260425T153832Z
DTSTART;VALUE=DATE:20261123
DTEND;VALUE=DATE:20261124
SUMMARY:Día de la Soberanía Nacional (20/11) (Trasladable)
DESCRIPTION:El Día de la Soberanía Nacional (20/11)\, lunes 23 de noviembre de 2026\, es un feriado trasladable en Argentina.
URL:https://feriadosargentina.com.ar/feriados-2026/dia-de-la-soberania-nacional-20-11/
CATEGORIES:Feriado,Argentina
STATUS:CONFIRMED
TRANSP:TRANSPARENT
END:VEVENT
BEGIN:VEVENT
UID:dia-no-laborable-con-fines-turisticos-20261207@feriadosargentina.com.ar
DTSTAMP:20260425T153832Z
DTSTART;VALUE=DATE:20261207
DTEND;VALUE=DATE:20261208
SUMMARY:Día no laborable con fines turísticos (Turístico)
DESCRIPTION:El Día no laborable con fines turísticos\, lunes 7 de diciembre de 2026\, es un feriado turístico en Argentina.
URL:https://feriadosargentina.com.ar/feriados-2026/dia-no-laborable-con-fines-turisticos/
CATEGORIES:Feriado,Argentina
STATUS:CONFIRMED
TRANSP:TRANSPARENT
END:VEVENT
BEGIN:VEVENT
UID:dia-de-la-inmaculada-concepcion-de-maria-20261208@feriadosargentina.com.ar
DTSTAMP:20260425T153832Z
DTSTART;VALUE=DATE:20261208
DTEND;VALUE=DATE:20261209
SUMMARY:Día de la Inmaculada Concepción de María (Inamovible)
DESCRIPTION:El Día de la Inmaculada Concepción de María\, martes 8 de diciembre de 2026\, es un feriado inamovible en Argentina.
URL:https://feriadosargentina.com.ar/feriados-2026/dia-de-la-inmaculada-concepcion-de-maria/
CATEGORIES:Feriado,Argentina
STATUS:CONFIRMED
TRANSP:TRANSPARENT
END:VEVENT
BEGIN:VEVENT
UID:navidad-20261225@feriadosargentina.com.ar
DTSTAMP:20260425T153832Z
DTSTART;VALUE=DATE:20261225
DTEND;VALUE=DATE:20261226
SUMMARY:Navidad (Inamovible)
DESCRIPTION:El Navidad\, viernes 25 de diciembre de 2026\, es un feriado inamovible en Argentina.
URL:https://feriadosargentina.com.ar/feriados-2026/navidad/
CATEGORIES:Feriado,Argentina
STATUS:CONFIRMED
TRANSP:TRANSPARENT
END:VEVENT
END:VCALENDAR
